BEGIN:VCALENDAR
VERSION:2.0
PRODID:-//eventon.com NONSGML v1.0//EN
CALSCALE:GREGORIAN
METHOD:PUBLISH
BEGIN:VEVENT
UID:69e8c99c15b7b
DTSTAMP:20260422T131404Z
DTSTART:20250413T080000Z
DTEND:20250413T153000Z
LOCATION:Bowood Hotel\,  Spa &amp; Golf Resort Derry Hill\,  Calne
SUMMARY:Full Day Short Game School
DESCRIPTION:Full Day Short Game School Sunday 13th April &#8211; 9am &#8211
 ; 4.30pm &nbsp; A full-day Golf School focusing on key aspects of the all 
 important short game blended with mindset strategies to maximise your consi
 stency\,  confidence and most importantly\,  enjoyment of the game. Welcome
  &amp; Introduction\,  coffee &amp; pastries Putting fundamentals\, [..]\nh
 ttps://nickylawrensongolf.com/events/full-day-short-game-school/
URL:https://nickylawrensongolf.com/events/full-day-short-game-school/
END:VEVENT
END:VCALENDAR