BEGIN:VCALENDAR
VERSION:2.0
PRODID:-//eventon.com NONSGML v1.0//EN
CALSCALE:GREGORIAN
METHOD:PUBLISH
BEGIN:VEVENT
UID:69e8b29dee266
DTSTAMP:20260422T113557Z
DTSTART:20260512T080000Z
DTEND:20260519T170000Z
LOCATION:Costa Navarino
SUMMARY:Costa Navarino Golf & Coaching Break
DESCRIPTION: Costa Navarino Golf &amp; Coaching Break 12th &#8211; 16th Ma
 y 2026 Offering four 18-hole signature golf courses in idyllic settings wit
 h exceptional layouts Costa Navarino has been recognized by a series of awa
 rds\,  including World’s Best Emerging Golf Destination (2022) from the W
 orld Golf Awards. Each golf course bears the[..]\nhttps://nickylawrensongol
 f.com/events/costa-navarino-golf-coaching-break/
URL:https://nickylawrensongolf.com/events/costa-navarino-golf-coaching-break/
END:VEVENT
END:VCALENDAR