BEGIN:VCALENDAR
VERSION:2.0
PRODID:-//eventon.com NONSGML v1.0//EN
CALSCALE:GREGORIAN
METHOD:PUBLISH
BEGIN:VEVENT
UID:69e8b3943df7d
DTSTAMP:20260422T114004Z
DTSTART:20261004T070000Z
DTEND:20261008T180000Z
LOCATION:La Manga Club Golf &amp; Spa 1 Golf Street\,  30389\,  Cartegena\, 
SUMMARY:La Manga Club Golf & Spa\,  Golf & Coaching Break
DESCRIPTION:La Manga Golf &amp; Coaching Break 4th &#8211; 8th October 2026
  Nestled amidst the lush green golf courses\,  the rolling hills of Calblan
 que Regional Park and the Mediterranean Sea\,  Grand Hyatt La Manga Club Go
 lf &amp; Spa is the ultimate destination to relax and stay active at one of
  Europe’s[..]\nhttps://nickylawrensongolf.com/events/la-manga-club-golf-s
 pa-golf-coaching-break/
URL:https://nickylawrensongolf.com/events/la-manga-club-golf-spa-golf-coaching-break/
END:VEVENT
END:VCALENDAR